BEGIN:VCALENDAR
VERSION:2.0
PRODID:-//Allure Group of Schools - ECPv6.5.1.4//NONSGML v1.0//EN
CALSCALE:GREGORIAN
METHOD:PUBLISH
X-ORIGINAL-URL:https://allureschools.com
X-WR-CALDESC:Events for Allure Group of Schools
REFRESH-INTERVAL;VALUE=DURATION:PT1H
X-Robots-Tag:noindex
X-PUBLISHED-TTL:PT1H
BEGIN:VTIMEZONE
TZID:UTC
BEGIN:STANDARD
TZOFFSETFROM:+0000
TZOFFSETTO:+0000
TZNAME:UTC
DTSTART:20240101T000000
END:STANDARD
END:VTIMEZONE
BEGIN:VEVENT
DTSTART;TZID=UTC:20240507T080000
DTEND;TZID=UTC:20240507T170000
DTSTAMP:20260424T142242
CREATED:20240624T142347Z
LAST-MODIFIED:20240624T142347Z
UID:2190-1715068800-1715101200@allureschools.com
SUMMARY:Schools Open
DESCRIPTION:
URL:https://allureschools.com/event/schools-open/
END:VEVENT
BEGIN:VEVENT
DTSTART;TZID=UTC:20240516T080000
DTEND;TZID=UTC:20240516T170000
DTSTAMP:20260424T142242
CREATED:20240624T142831Z
LAST-MODIFIED:20240624T142831Z
UID:2192-1715846400-1715878800@allureschools.com
SUMMARY:Weather Station Visit
DESCRIPTION:High School
URL:https://allureschools.com/event/weather-station-visit/
END:VEVENT
BEGIN:VEVENT
DTSTART;TZID=UTC:20240523T080000
DTEND;TZID=UTC:20240523T170000
DTSTAMP:20260424T142242
CREATED:20240624T143004Z
LAST-MODIFIED:20240624T143004Z
UID:2194-1716451200-1716483600@allureschools.com
SUMMARY:Weather Station Visit
DESCRIPTION:Year 4
URL:https://allureschools.com/event/weather-station-visit-2/
END:VEVENT
END:VCALENDAR