BEGIN:VCALENDAR
VERSION:2.0
PRODID:-//Allure Group of Schools - ECPv6.5.1.4//NONSGML v1.0//EN
CALSCALE:GREGORIAN
METHOD:PUBLISH
X-ORIGINAL-URL:https://allureschools.com
X-WR-CALDESC:Events for Allure Group of Schools
REFRESH-INTERVAL;VALUE=DURATION:PT1H
X-Robots-Tag:noindex
X-PUBLISHED-TTL:PT1H
BEGIN:VTIMEZONE
TZID:UTC
BEGIN:STANDARD
TZOFFSETFROM:+0000
TZOFFSETTO:+0000
TZNAME:UTC
DTSTART:20240101T000000
END:STANDARD
END:VTIMEZONE
BEGIN:VEVENT
DTSTART;TZID=UTC:20240320T080000
DTEND;TZID=UTC:20240320T170000
DTSTAMP:20260424T051924
CREATED:20240308T172833Z
LAST-MODIFIED:20240308T173128Z
UID:2097-1710921600-1710954000@allureschools.com
SUMMARY:Consultation Year 2\,3\,4\,5\,6
DESCRIPTION:Year 2\,3\,4\,5\,6 & Reception Belvedere
URL:https://allureschools.com/event/consultation-year-23456/
LOCATION:Avondale\, Mt Pleasant\, Belvedere\, Avondale\, Mt Pleasant\, Belvedere\, Harare
ATTACH;FMTTYPE=image/jpeg:https://allureschools.com/wp-content/uploads/2024/03/Allure-Parent-and-Teacher-Consultations.jpg
END:VEVENT
END:VCALENDAR