BEGIN:VCALENDAR
VERSION:2.0
PRODID:-//Allure Group of Schools - ECPv6.5.1.4//NONSGML v1.0//EN
CALSCALE:GREGORIAN
METHOD:PUBLISH
X-ORIGINAL-URL:https://allureschools.com
X-WR-CALDESC:Events for Allure Group of Schools
REFRESH-INTERVAL;VALUE=DURATION:PT1H
X-Robots-Tag:noindex
X-PUBLISHED-TTL:PT1H
BEGIN:VTIMEZONE
TZID:UTC
BEGIN:STANDARD
TZOFFSETFROM:+0000
TZOFFSETTO:+0000
TZNAME:UTC
DTSTART:20240101T000000
END:STANDARD
END:VTIMEZONE
BEGIN:VEVENT
DTSTART;TZID=UTC:20240319T080000
DTEND;TZID=UTC:20240319T170000
DTSTAMP:20260424T051925
CREATED:20240308T172519Z
LAST-MODIFIED:20240308T172928Z
UID:2094-1710835200-1710867600@allureschools.com
SUMMARY:Consultation Grade 0 & Year 1
DESCRIPTION:Year 1\, Grade 0 Mt pleasant & High School\, Pre reception Belvedere
URL:https://allureschools.com/event/consultation-grade0-year1/
LOCATION:Avondale\, Mt Pleasant\, Belvedere\, Avondale\, Mt Pleasant\, Belvedere\, Harare
ATTACH;FMTTYPE=image/jpeg:https://allureschools.com/wp-content/uploads/2024/03/Allure-Parent-and-Teacher-Consultations.jpg
END:VEVENT
END:VCALENDAR